BEGIN:VCALENDAR
VERSION:2.0
PRODID:-//Celada Architetti Associati - ECPv6.15.11//NONSGML v1.0//EN
CALSCALE:GREGORIAN
METHOD:PUBLISH
X-WR-CALNAME:Celada Architetti Associati
X-ORIGINAL-URL:https://www.celadaarchitetti.it
X-WR-CALDESC:Eventi per Celada Architetti Associati
REFRESH-INTERVAL;VALUE=DURATION:PT1H
X-Robots-Tag:noindex
X-PUBLISHED-TTL:PT1H
BEGIN:VTIMEZONE
TZID:Europe/Rome
BEGIN:DAYLIGHT
TZOFFSETFROM:+0100
TZOFFSETTO:+0200
TZNAME:CEST
DTSTART:20150329T010000
END:DAYLIGHT
BEGIN:STANDARD
TZOFFSETFROM:+0200
TZOFFSETTO:+0100
TZNAME:CET
DTSTART:20151025T010000
END:STANDARD
BEGIN:DAYLIGHT
TZOFFSETFROM:+0100
TZOFFSETTO:+0200
TZNAME:CEST
DTSTART:20160327T010000
END:DAYLIGHT
BEGIN:STANDARD
TZOFFSETFROM:+0200
TZOFFSETTO:+0100
TZNAME:CET
DTSTART:20161030T010000
END:STANDARD
BEGIN:DAYLIGHT
TZOFFSETFROM:+0100
TZOFFSETTO:+0200
TZNAME:CEST
DTSTART:20170326T010000
END:DAYLIGHT
BEGIN:STANDARD
TZOFFSETFROM:+0200
TZOFFSETTO:+0100
TZNAME:CET
DTSTART:20171029T010000
END:STANDARD
END:VTIMEZONE
BEGIN:VEVENT
DTSTART;TZID=Europe/Rome:20160607T183000
DTEND;TZID=Europe/Rome:20160607T210000
DTSTAMP:20260419T191948
CREATED:20160525T143337Z
LAST-MODIFIED:20160601T083744Z
UID:231-1465324200-1465333200@www.celadaarchitetti.it
SUMMARY:Aperitivo di Primavera
DESCRIPTION:Colè Gallery vi aspetta Martedi 7 Giugno per un aperitivo di primavera.\nProtagonisti i brand: Colè Italian Design Label\, G.T. Design\, Antes Design\, Tato\, Linck Ceramics\, Labanto\, ZPstudio Tools\, Quebo Design.
URL:https://www.celadaarchitetti.it/evento/aperitivo-di-primavera/
LOCATION:Colé Gallery\, via Cesare da Sesto\, 11\, Milano\, 20123\, Italia
CATEGORIES:Aperitivi
ATTACH;FMTTYPE=image/jpeg:https://www.celadaarchitetti.it/wp-content/uploads/2016/05/CG_invito_eventoGIUGNO2016ita3.jpeg
END:VEVENT
BEGIN:VEVENT
DTSTART;TZID=Europe/Rome:20160418T190000
DTEND;TZID=Europe/Rome:20160418T220000
DTSTAMP:20260419T191948
CREATED:20160525T144939Z
LAST-MODIFIED:20160525T145021Z
UID:234-1461006000-1461016800@www.celadaarchitetti.it
SUMMARY:Quebo Design Cocktail
DESCRIPTION:
URL:https://www.celadaarchitetti.it/evento/quebo-design-cocktail/
LOCATION:Casa Quebo\, Via Federico Confalonieri\, 36\, Milano\, 20124\, Italia
CATEGORIES:Aperitivi
ATTACH;FMTTYPE=image/jpeg:https://www.celadaarchitetti.it/wp-content/uploads/2016/05/invito-fuorisalone-Quebo-Design-2015.jpg
END:VEVENT
END:VCALENDAR